BEGIN:VCALENDAR
PRODID:-//Calendar export
VERSION:2.0
X-WR-TIMEZONE:Etc/GMT
BEGIN:VTIMEZONE
TZID:GMT Standard Time
BEGIN:STANDARD
TZOFFSETFROM:+0000
TZOFFSETTO:+0000
END:STANDARD
END:VTIMEZONE
BEGIN:VEVENT
UID:AE12
DTSTAMP:20260425T135100Z
SUMMARY:Sale Report - Tuesday 21st April 2026
CLASS:PUBLIC
DESCRIPTION:Forward 534 Head of Stock comprising of 53 Cattle including
  1 Calf\, 36 S
 tores\, 9 Prime Cattle\, 2 Cows with 2 calves at foot\, 3 OTM and 481 She
 ep comprising of 321 Prime Hoggs\, 87 Ewes\, 5 Tups\, 3 Ewes with 5 Lambs
  at foot\, 60 Store Hoggs. 18 Bales of Barley Straw.
STATUS:CONFIRMED
PRIORITY:1
DTSTART:20260420T230000Z
DTEND:20260421T225900Z
TRANSP:OPAQUE
END:VEVENT
END:VCALENDAR
