BEGIN:VCALENDAR
PRODID:-//Calendar export
VERSION:2.0
X-WR-TIMEZONE:Etc/GMT
BEGIN:VTIMEZONE
TZID:GMT Standard Time
BEGIN:STANDARD
TZOFFSETFROM:+0000
TZOFFSETTO:+0000
END:STANDARD
END:VTIMEZONE
BEGIN:VEVENT
UID:AE14
DTSTAMP:20260425T134900Z
SUMMARY:Sale Report - Tuesday 7th April 2026
CLASS:PUBLIC
DESCRIPTION:CALVES
STATUS:CONFIRMED
PRIORITY:1
DTSTART:20260406T230000Z
DTEND:20260407T225900Z
TRANSP:OPAQUE
END:VEVENT
END:VCALENDAR
