BEGIN:VCALENDAR
PRODID:-//Calendar export
VERSION:2.0
X-WR-TIMEZONE:Etc/GMT
BEGIN:VTIMEZONE
TZID:GMT Standard Time
BEGIN:STANDARD
TZOFFSETFROM:+0000
TZOFFSETTO:+0000
END:STANDARD
END:VTIMEZONE
BEGIN:VEVENT
UID:AE15
DTSTAMP:20260425T135000Z
SUMMARY:Sale Report - Tuesday 31st March 2026
CLASS:PUBLIC
DESCRIPTION:STORE CATTLE
STATUS:CONFIRMED
PRIORITY:1
DTSTART:20260330T230000Z
DTEND:20260331T225900Z
TRANSP:OPAQUE
END:VEVENT
END:VCALENDAR
